Workbook

Sheet 30-Day Tracker
A1: Date | B1: Week | C1: Activity Type | D1: Target / Company | E1: Role / Opportunity | F1: Action | G1: Status | H1: Next Action | I1: Next Action Date | J1: Result / Evidence | K1: Notes
B2: =IF(A2="","",ROUNDUP(DAY(A2)/7,0))
B3: =IF(A3="","",ROUNDUP(DAY(A3)/7,0))
B4: =IF(A4="","",ROUNDUP(DAY(A4)/7,0))
B5: =IF(A5="","",ROUNDUP(DAY(A5)/7,0))
B6: =IF(A6="","",ROUNDUP(DAY(A6)/7,0))
B7: =IF(A7="","",ROUNDUP(DAY(A7)/7,0))
B8: =IF(A8="","",ROUNDUP(DAY(A8)/7,0))
B9: =IF(A9="","",ROUNDUP(DAY(A9)/7,0))
B10: =IF(A10="","",ROUNDUP(DAY(A10)/7,0))
B11: =IF(A11="","",ROUNDUP(DAY(A11)/7,0))
B12: =IF(A12="","",ROUNDUP(DAY(A12)/7,0))
B13: =IF(A13="","",ROUNDUP(DAY(A13)/7,0))
... B201: =IF(A201="","",ROUNDUP(DAY(A201)/7,0))

Sheet Dashboard
A1: Opportunity Navigator — 30-Day Dashboard
A3: Activities Logged | B3: =COUNTA('30-Day Tracker'!A2:A200)
A4: Completed | B4: =COUNTIF('30-Day Tracker'!G2:G200,"Completed")
A5: In Progress | B5: =COUNTIF('30-Day Tracker'!G2:G200,"In Progress")
A6: Waiting | B6: =COUNTIF('30-Day Tracker'!G2:G200,"Waiting")
A7: Closed | B7: =COUNTIF('30-Day Tracker'!G2:G200,"Closed")
A8: Upcoming Actions | B8: =COUNT('30-Day Tracker'!I2:I200)
A11: Use this dashboard to maintain execution discipline after Day 15.
