Workbook

Sheet Pipeline Review
A1: ID | B1: Company | C1: Role | D1: Source | E1: Fit /5 | F1: Quality /5 | G1: Timing /5 | H1: Access /5 | I1: Total /20 | J1: Stage | K1: Decision | L1: Next Action | M1: Next Action Date | N1: Last Activity | O1: Days Since Activity | P1: Priority | Q1: Notes
A2: O1 | I2: =IF(COUNTA(E2:H2)=0,"",SUM(E2:H2)) | O2: =IF(N2="","",TODAY()-N2)
A3: O2 | I3: =IF(COUNTA(E3:H3)=0,"",SUM(E3:H3)) | O3: =IF(N3="","",TODAY()-N3)
A4: O3 | I4: =IF(COUNTA(E4:H4)=0,"",SUM(E4:H4)) | O4: =IF(N4="","",TODAY()-N4)
A5: O4 | I5: =IF(COUNTA(E5:H5)=0,"",SUM(E5:H5)) | O5: =IF(N5="","",TODAY()-N5)
A6: O5 | I6: =IF(COUNTA(E6:H6)=0,"",SUM(E6:H6)) | O6: =IF(N6="","",TODAY()-N6)
A7: O6 | I7: =IF(COUNTA(E7:H7)=0,"",SUM(E7:H7)) | O7: =IF(N7="","",TODAY()-N7)
A8: O7 | I8: =IF(COUNTA(E8:H8)=0,"",SUM(E8:H8)) | O8: =IF(N8="","",TODAY()-N8)
A9: O8 | I9: =IF(COUNTA(E9:H9)=0,"",SUM(E9:H9)) | O9: =IF(N9="","",TODAY()-N9)
A10: O9 | I10: =IF(COUNTA(E10:H10)=0,"",SUM(E10:H10)) | O10: =IF(N10="","",TODAY()-N10)
A11: O10 | I11: =IF(COUNTA(E11:H11)=0,"",SUM(E11:H11)) | O11: =IF(N11="","",TODAY()-N11)
A12: O11 | I12: =IF(COUNTA(E12:H12)=0,"",SUM(E12:H12)) | O12: =IF(N12="","",TODAY()-N12)
A13: O12 | I13: =IF(COUNTA(E13:H13)=0,"",SUM(E13:H13)) | O13: =IF(N13="","",TODAY()-N13)
... A31: O30 | I31: =IF(COUNTA(E31:H31)=0,"",SUM(E31:H31)) | O31: =IF(N31="","",TODAY()-N31)

Sheet Dashboard
A1: Day 11 Pipeline Review Dashboard
A3: Opportunities Logged | B3: =COUNTA('Pipeline Review'!A2:A200)
A4: Keep | B4: =COUNTIF('Pipeline Review'!K2:K200,"Keep")
A5: Pause | B5: =COUNTIF('Pipeline Review'!K2:K200,"Pause")
A6: Drop | B6: =COUNTIF('Pipeline Review'!K2:K200,"Drop")
A7: High Priority | B7: =COUNTIF('Pipeline Review'!P2:P200,"High")
A8: Actions Due | B8: =COUNTIFS('Pipeline Review'!M2:M200,"<="&TODAY(),'Pipeline Review'!M2:M200,">0")
A11: Day 11 Targets
A12: ☐ 10–15 relevant opportunities
A13: ☐ Every kept opportunity has a next action
A14: ☐ Top 5 prioritised
A15: ☐ Stalled opportunities diagnosed
A16: ☐ Search gaps identified
A17: ☐ Day 12 actions scheduled
